BEGIN:VCALENDAR
VERSION:2.0
PRODID:-//Squarespace Inc/Squarespace 6//v6//EN
BEGIN:VEVENT
UID:5d6e2a974f45fb00014c01f2@squarespace.com
DTSTAMP:20190903T085908Z
DTSTART:20190908T060000Z
DTEND:20190908T090000Z
SUMMARY:Social Sundowner Pizza Ride.  This Sunday 8th Sept 2pm @ Camel Farm
 .
GEO:-31.964665;116.10679
LOCATION:Calaunda Camel farm\, Australia
END:VEVENT
END:VCALENDAR
