BEGIN:VCALENDAR
VERSION:2.0
PRODID:-//Squarespace Inc/Squarespace 6//v6//EN
BEGIN:VEVENT
UID:5dbec9ce7e97a73b82774c4e@squarespace.com
DTSTAMP:20191115T133414Z
DTSTART:20191130T080000Z
DTEND:20191130T140000Z
SUMMARY:KMBC XMAS RIDE AND AGM!!!
GEO:-31.97576;116.08986
LOCATION:Chalet rigi\, 415 Mundaring Weir Road\, Hacketts Gully\, WA\, 6076
 \, Australia
END:VEVENT
END:VCALENDAR
