BEGIN:VCALENDAR
VERSION:2.0
PRODID:-//Squarespace Inc/Squarespace 6//v6//EN
BEGIN:VEVENT
UID:5d4c01131bd5690001a433dd@squarespace.com
DTSTAMP:20190808T110826Z
DTSTART:20190906T233000Z
DTEND:20190907T093000Z
SUMMARY:Dwellingup 100 
GEO:-32.714254;116.066497
LOCATION:Dwellingup\, Western Austrlia
END:VEVENT
END:VCALENDAR
